BEGIN:VCALENDAR
VERSION:2.0
PRODID:icalendar-ruby
CALSCALE:GREGORIAN
METHOD:PUBLISH
BEGIN:VEVENT
DTSTAMP:20260425T133031Z
UID:121-273@oursavior284.tithelysetup5.com
DTSTART:20260503T181500Z
DTEND:20260503T190000Z
CLASS:PUBLIC
CREATED:20260424T112143
DESCRIPTION:
LAST-MODIFIED:20260424T112143
LOCATION:
SUMMARY:Usher Training
URL;VALUE=URI:https://oslmesquite.org/events/usher-training/2026-05-03
ATTACH;FILENAME=usher-trianing.png;FMTTYPE=image/png:https://dq5pwpg1q8ru0.
 cloudfront.net/2026/04/24/18/21/43/56c455e0-7a83-4c10-9413-ca9b207650cc/us
 her-trianing.png
END:VEVENT
END:VCALENDAR
